BEGIN:VCALENDAR
VERSION:2.0
PRODID:-//Atrask Sportą - ECPv6.15.20//NONSGML v1.0//EN
CALSCALE:GREGORIAN
METHOD:PUBLISH
X-WR-CALNAME:Atrask Sportą
X-ORIGINAL-URL:https://atrasksporta.lt
X-WR-CALDESC:Atrask Sportą renginiai
REFRESH-INTERVAL;VALUE=DURATION:PT1H
X-Robots-Tag:noindex
X-PUBLISHED-TTL:PT1H
BEGIN:VTIMEZONE
TZID:UTC
BEGIN:STANDARD
TZOFFSETFROM:+0000
TZOFFSETTO:+0000
TZNAME:UTC
DTSTART:20240101T000000
END:STANDARD
END:VTIMEZONE
BEGIN:VEVENT
DTSTART;VALUE=DATE:20250322
DTEND;VALUE=DATE:20250323
DTSTAMP:20260420T213245
CREATED:20241125T123212Z
LAST-MODIFIED:20241125T123212Z
UID:2354-1742601600-1742687999@atrasksporta.lt
SUMMARY:GAUDYNIŲ LYGA\, 2 ETAPAS
DESCRIPTION:Įspūdingiausias parkūro renginys sugrįžta! Gaudynių Lyga 2024/2025 kviečia visus norinčius išbandyti savo jėgas dinamiškose gaudynių kovose\, kur greitis ir strategija nulems viską.\nKas yra Gaudynių Lyga?Tai lietuviškas World Chase Tag atitikmuo\, kur dalyviai 1 prieš 1 varžosi 20 sekundžių raunduose. Tikslas – sugauti savo varžovą ir išvengti pagavimo.\nNesvarbu\, ar esi parkūro mėgėjas\, ar tiesiog greitas ir gudrus – šis čempionatas atviras visiems! Kiekvienas etapas – tai ne tik iššūkis\, bet ir galimybė priartėti prie finalinės pergalės.\nArtimiausias etapas – 2025 03 22\nREGISTRACIJA: https://shorturl.at/0CmW\nPrisijunk ir tapk turnyro dalimi!
URL:https://atrasksporta.lt/event/gaudyniu-lyga-2-etapas/
LOCATION:KGYM\, Ateities g. 31\, Vilnius\, LT-06326\, Lithuania
CATEGORIES:Parkūras
ATTACH;FMTTYPE=image/jpeg:https://atrasksporta.lt/wp-content/uploads/2024/10/048E0915-3AC7-4D4D-9F12-6AC1EA300BF9-1.jpg
END:VEVENT
END:VCALENDAR