BEGIN:VCALENDAR
VERSION:2.0
PRODID:-//Atrask Sportą - ECPv6.15.20//NONSGML v1.0//EN
CALSCALE:GREGORIAN
METHOD:PUBLISH
X-WR-CALNAME:Atrask Sportą
X-ORIGINAL-URL:https://atrasksporta.lt
X-WR-CALDESC:Atrask Sportą renginiai
REFRESH-INTERVAL;VALUE=DURATION:PT1H
X-Robots-Tag:noindex
X-PUBLISHED-TTL:PT1H
BEGIN:VTIMEZONE
TZID:UTC
BEGIN:STANDARD
TZOFFSETFROM:+0000
TZOFFSETTO:+0000
TZNAME:UTC
DTSTART:20240101T000000
END:STANDARD
END:VTIMEZONE
BEGIN:VEVENT
DTSTART;TZID=UTC:20250404T180000
DTEND;TZID=UTC:20250404T210000
DTSTAMP:20260420T200718
CREATED:20250324T104005Z
LAST-MODIFIED:20250326T151626Z
UID:2597-1743789600-1743800400@atrasksporta.lt
SUMMARY:Kino vakaras ir parkūro treniruotė vaikams ir suaugusiems
DESCRIPTION:Data: 2025 m. balandžio 4 d. (penktadienis)Laikas: 18:00–21:00Vieta: Vilniaus parkūro akademija\, Ateities g. 31\, VilniusKaina: 15 €Amžius: nuo 6 metų \nKviečiame vaikus ir suaugusius į išskirtinį renginį – kino vakarą su dokumentiniu filmu „SPOT TESTED“ ir bendrą parkūro treniruotę po peržiūros. \nFilmas pasakoja apie parkūro kultūros vystymąsi ir tarptautiniu mastu žinomus atletus\, tokius kaip Dom Tomato\, Pasha Petkuns\, Lilou Ruel\, George McGowan ir daugelį kitų. Tai istoriškai vertingas ir įkvepiantis pasakojimas apie laisvą judėjimą\, kūrybą ir bendruomenę\, kurią vienija parkūras. \nPo filmo žiūrėjimo dalyviai kviečiami į įkvėptą parkūro treniruotę – tai galimybė iškart pritaikyti pamatytus judesius ir patirti bendrumo jausmą judant kartu. \nRegistracija\nRegistracija vykdoma per internetinę sistemą:exoclass.com/lt/embed/provider/8addc1dc-9f4f-4aee-840f-707fcd4f69e5/group-management/1dcea690-a1c2-42fe-b24c-2054c24059cc \nTaip pat galima registruotis pas trenerį arba administracijoje. \nVietų skaičius ribotas. Kviečiame registruotis iš anksto.
URL:https://atrasksporta.lt/event/kino-vakaras-ir-parkuro-treniruote-vaikams-ir-jaunimui/
LOCATION:Vilniaus parkūro akademija\, Ateities g. 31\, Vilnius\, Lithuania
CATEGORIES:Parkūras
ATTACH;FMTTYPE=image/jpeg:https://atrasksporta.lt/wp-content/uploads/2025/03/1.jpg
END:VEVENT
END:VCALENDAR