BEGIN:VCALENDAR
VERSION:2.0
PRODID:-//Atrask Sportą - ECPv6.15.20//NONSGML v1.0//EN
CALSCALE:GREGORIAN
METHOD:PUBLISH
X-WR-CALNAME:Atrask Sportą
X-ORIGINAL-URL:https://atrasksporta.lt
X-WR-CALDESC:Atrask Sportą renginiai
REFRESH-INTERVAL;VALUE=DURATION:PT1H
X-Robots-Tag:noindex
X-PUBLISHED-TTL:PT1H
BEGIN:VTIMEZONE
TZID:UTC
BEGIN:STANDARD
TZOFFSETFROM:+0000
TZOFFSETTO:+0000
TZNAME:UTC
DTSTART:20240101T000000
END:STANDARD
END:VTIMEZONE
BEGIN:VEVENT
DTSTART;VALUE=DATE:20250607
DTEND;VALUE=DATE:20250608
DTSTAMP:20260420T184242
CREATED:20250506T111548Z
LAST-MODIFIED:20250506T115335Z
UID:2700-1749254400-1749340799@atrasksporta.lt
SUMMARY:GAUDYNIŲ LYGA 3 etapas
DESCRIPTION:Finalinis Gaudynių Lygos 2024/2025 etapas – jau birželio 7 d. \nVieta: Vilniaus parkūro akademija\, Ateities g. 31Data: 2025 m. birželio 7 d. \nDalyviai varžosi 1 prieš 1\, 20 sekundžių persekiojimo raunduose\, kur reikia ne tik greičio\, bet ir taktinio mąstymo. Finalinio etapo metu bus išaiškinti šio sezono stipriausi Gaudynių Lygos sportininkai. \nNesvarbu\, ar esi patyręs parkūristas\, ar tiesiog greitas ir išradingas – šis čempionatas atviras visiems. \nREGISTRACIJA: https://shorturl.at/0CmW\nPrisijunk ir tapk turnyro dalimi! 
URL:https://atrasksporta.lt/event/gaudyniu-lyga-3-etapas/
LOCATION:Vilniaus parkūro akademija\, Ateities g. 31\, Vilnius\, Lithuania
CATEGORIES:Parkūras
ATTACH;FMTTYPE=image/png:https://atrasksporta.lt/wp-content/uploads/2025/05/Track-297-x-420-mm.png
END:VEVENT
END:VCALENDAR