BEGIN:VCALENDAR
VERSION:2.0
PRODID:-//Atrask Sportą - ECPv6.15.20//NONSGML v1.0//EN
CALSCALE:GREGORIAN
METHOD:PUBLISH
X-WR-CALNAME:Atrask Sportą
X-ORIGINAL-URL:https://atrasksporta.lt
X-WR-CALDESC:Atrask Sportą renginiai
REFRESH-INTERVAL;VALUE=DURATION:PT1H
X-Robots-Tag:noindex
X-PUBLISHED-TTL:PT1H
BEGIN:VTIMEZONE
TZID:UTC
BEGIN:STANDARD
TZOFFSETFROM:+0000
TZOFFSETTO:+0000
TZNAME:UTC
DTSTART:20240101T000000
END:STANDARD
END:VTIMEZONE
BEGIN:VEVENT
DTSTART;TZID=UTC:20251129T100000
DTEND;TZID=UTC:20251129T150000
DTSTAMP:20260420T110650
CREATED:20251024T102532Z
LAST-MODIFIED:20251024T102532Z
UID:3065-1764410400-1764428400@atrasksporta.lt
SUMMARY:GAUDYNIŲ VARŽYBOS – VIENOS DIENOS IŠŠŪKIS!
DESCRIPTION:REGISTRACIJA \nAr gebi mąstyti judėdamas? Ar gali išvengti pagavimo per 20 sekundžių?Gaudynių varžybos – tai dinamiškas\, parkūro principais paremtas iššūkis\, kuriame du dalyviai stoja akis į akį: vienas bėga\, kitas gaudo. Kiekvienas bėgimas trunka tik kelias akimirkas\, tačiau per jas sprendžiasi viskas – kas greitesnis\, sumanesnis ir ištvermingesnis. \nŠis renginys kviečia visus – tiek parkūro sportininkus\, tiek vaikus\, kurie nori išbandyti kažką naujo ir patirti adrenalino kupiną iššūkį.Registruotis gali 7–17 metų vaikai ir paaugliai. \n\nVaržybų vieta ir data\nVaržybos vyks 2025 m. lapkričio 29 d. (šeštadienį)Vilniaus parkūro akademijoje\, Ateities g. 31\, Vilniuje.Laikas bus patikslintas pagal dalyvių skaičių. \nDalyviai bus suskirstyti į amžiaus grupes\, kad kiekvienas galėtų rungtis su savo lygio ir amžiaus sportininkais. \n\nKaip vyksta rungtis\nDalyviai suskirstomi į poras burtų keliu. Kiekvienoje poroje vyksta keli bėgimai\, kuriuose abu žaidėjai paeiliui keičiasi vaidmenimis.Taškai skiriami tik bėgantiesiems\, jei jie sėkmingai išvengia pagavimo per nustatytą laiką.Jei rezultatas lieka lygus – viską nulemia staigaus laimėjimo bėgimas\, kuriame per vieną bandymą paaiškėja nugalėtojas. \n\nTaisyklės trumpai\n\n\nGaudantysis gali liesti tik ranka. \n\n\nUžribis – kai žaidėjas išeina už aikštelės ribų visa koja. \n\n\nPagavimas laikomas galiojančiu\, jei paliečiama bet kuri kūno dalis ar drabužis. \n\n\nSvarbiausia – saugus žaidimas ir pagarba priešininkui. \n\n\n\nStaigmenos ir prizai\nDalyvių laukia netikėti iššūkiai\, specialūs prizai ir azartiška atmosfera.Daugiau informacijos apie laikus\, grupes ir apdovanojimus – po ankstyvos registracijos. \n\nRegistracija\nAnkstyva registracija iki 2025 m. lapkričio 10 d. – 15 €Po lapkričio 10 d. – 25 € \nRegistracijos nuoroda
URL:https://atrasksporta.lt/event/gaudyniu-varzybos-vienos-dienos-issukis/
LOCATION:Vilniaus parkūro akademija\, Ateities g. 31\, Vilnius\, Lithuania
CATEGORIES:Parkūras
ATTACH;FMTTYPE=image/png:https://atrasksporta.lt/wp-content/uploads/2025/10/Vilniaus-parkuro-akademija.png
END:VEVENT
END:VCALENDAR